BEGIN:VCALENDAR
VERSION:2.0
PRODID:-//AudioTheme 2.3.8
BEGIN:VEVENT
UID:urn:uuid:770f8dd4-87e2-4896-9ec7-9157247040a9
URL:https://mitchmcvicker.com/concerts/2026-10-30/
DTSTART;TZID=GMT:20261031T000000
SUMMARY:Lifespring Community Church
LOCATION:Lifespring Community Church\, 1615 Theole Road\, St. Peters\, MO\, United States\, 63376
END:VEVENT
END:VCALENDAR
