BEGIN:VCALENDAR
VERSION:2.0
PRODID:-//AudioTheme 2.3.8
BEGIN:VEVENT
UID:urn:uuid:ae3e695f-c42c-48de-aa55-f95b597813a7
URL:https://mitchmcvicker.com/concerts/2026-10-25/
DTSTART;TZID=GMT:20261025T230000
SUMMARY:Koinonia
LOCATION:Koinonia\, 103 Avenue C\, Cloquet\, MN
END:VEVENT
END:VCALENDAR
