BEGIN:VCALENDAR
VERSION:2.0
PRODID:-//AudioTheme 2.3.8
BEGIN:VEVENT
UID:urn:uuid:ee4ab1ed-9ee1-42bb-a547-9ebed266bb1b
URL:https://mitchmcvicker.com/concerts/2026-10-24/
DTSTART;TZID=GMT:20261025T000000
SUMMARY:Denfield High School Auditorium
LOCATION:Denfield High School Auditorium\, 401 N. 44th Ave. W\, Duluth\, MN
END:VEVENT
END:VCALENDAR
