BEGIN:VCALENDAR
VERSION:2.0
PRODID:-//AudioTheme 2.3.8
BEGIN:VEVENT
UID:urn:uuid:7917f2b1-9bfc-49e4-802b-3fb905e29d7b
URL:https://mitchmcvicker.com/concerts/2026-10-23/
DTSTART;TZID=GMT:20261024T000000
SUMMARY:Living Room Coffee
LOCATION:Living Room Coffee\, 212 E Howard st\, Hibbing\, MN
END:VEVENT
END:VCALENDAR
