BEGIN:VCALENDAR
VERSION:2.0
PRODID:-//AudioTheme 2.3.8
BEGIN:VEVENT
UID:urn:uuid:d3c23451-2c55-4845-b8a1-a810d0b634dc
URL:https://mitchmcvicker.com/concerts/2026-10-21/
DTSTART;TZID=GMT:20261022T000000
SUMMARY:Rock Church
LOCATION:Rock Church\, 1081 Upper Spring Bay Rd\, E. Peoria\, IL
END:VEVENT
END:VCALENDAR
