BEGIN:VCALENDAR
VERSION:2.0
PRODID:-//AudioTheme 2.3.8
BEGIN:VEVENT
UID:urn:uuid:3a0221a1-c23c-406b-bbce-0426de8f6ce3
URL:https://mitchmcvicker.com/concerts/2026-10-18/
DTSTART;TZID=GMT:20261018T143000
SUMMARY:Jerusalem Christian Church
LOCATION:Jerusalem Christian Church\, 560 Donation Road\, Greenville\, PA
END:VEVENT
END:VCALENDAR
