BEGIN:VCALENDAR
VERSION:2.0
PRODID:-//AudioTheme 2.3.8
BEGIN:VEVENT
UID:urn:uuid:2c49c3e9-d62c-418a-b783-3eaa389ae76c
URL:https://mitchmcvicker.com/concerts/2026-10-17/
DTSTART;TZID=GMT:20261017T230000
SUMMARY:Karen's place @ Doylestown Mennonite
LOCATION:Karen's place @ Doylestown Mennonite\, 590 N Broad St\, Doylestown\, PA\, 18901
END:VEVENT
END:VCALENDAR
