BEGIN:VCALENDAR
VERSION:2.0
PRODID:-//AudioTheme 2.3.8
BEGIN:VEVENT
UID:urn:uuid:4e36ab28-80d7-4cee-a64c-817250901417
URL:https://mitchmcvicker.com/concerts/2026-10-16/
DTSTART;TZID=GMT:20261016T230000
SUMMARY:Central Baptist Church
LOCATION:Central Baptist Church\, 201 US Highway 70 SW E\, Hildebran\, NC
END:VEVENT
END:VCALENDAR
