BEGIN:VCALENDAR
VERSION:2.0
PRODID:-//AudioTheme 2.3.8
BEGIN:VEVENT
UID:urn:uuid:adeb2aa4-a88c-46bb-9717-e581dcf6f53f
URL:https://mitchmcvicker.com/concerts/2026-10-15/
DTSTART;TZID=GMT:20261015T230000
SUMMARY:Mt. Hermon Lutheran Church
LOCATION:Mt. Hermon Lutheran Church\, 3011 Leaphart Rd.\, West Columbia\, SC
END:VEVENT
END:VCALENDAR
