BEGIN:VCALENDAR
VERSION:2.0
PRODID:-//AudioTheme 2.3.8
BEGIN:VEVENT
UID:urn:uuid:73eeac9d-637e-439a-a0b9-8c51a3bd3363
URL:https://mitchmcvicker.com/concerts/2026-10-04/
DTSTART;TZID=GMT:20261004T220000
SUMMARY:Harvest Community Church
LOCATION:Harvest Community Church\, 60 N Main St\, Woonsocket\, RI
END:VEVENT
END:VCALENDAR
