BEGIN:VCALENDAR
VERSION:2.0
PRODID:-//AudioTheme 2.3.8
BEGIN:VEVENT
UID:urn:uuid:93e9189f-c212-45bb-b9da-a35be9f4503c
URL:https://mitchmcvicker.com/concerts/2026-10-04-2/
DTSTART;TZID=GMT:20261004T140000
SUMMARY:Messiah Christian Church
LOCATION:Messiah Christian Church\, 2700 Post Rd\, Wells\, ME
END:VEVENT
END:VCALENDAR
