BEGIN:VCALENDAR
VERSION:2.0
PRODID:-//AudioTheme 2.3.8
BEGIN:VEVENT
UID:urn:uuid:1d9f7aeb-fd2e-4460-8654-67b9fd336df8
URL:https://mitchmcvicker.com/concerts/2026-10-03/
DTSTART;TZID=GMT:20261003T190000
SUMMARY:Athens Fairgrounds: Benefit for New Hope Woman's Shelter
LOCATION:Athens Fairgrounds: Benefit for New Hope Woman's Shelter\, Athens Fairgrounds\, Athens\, ME
END:VEVENT
END:VCALENDAR
