BEGIN:VCALENDAR
VERSION:2.0
PRODID:-//AudioTheme 2.3.8
BEGIN:VEVENT
UID:urn:uuid:376eee2b-6e37-4f1c-a3cd-7e04681d12be
URL:https://mitchmcvicker.com/concerts/2026-10-02/
DTSTART;TZID=GMT:20261002T230000
SUMMARY:Cafe at the Mill
LOCATION:Cafe at the Mill\, 45 River St\, Millbury\, MA
END:VEVENT
END:VCALENDAR
