BEGIN:VCALENDAR
VERSION:2.0
PRODID:-//AudioTheme 2.3.8
BEGIN:VEVENT
UID:urn:uuid:c4e59183-5dbd-439e-87cd-b915e716c96f
URL:https://mitchmcvicker.com/concerts/2026-09-30/
DTSTART;TZID=GMT:20260930T230000
SUMMARY:Stonebridge Community Church
LOCATION:Stonebridge Community Church\, 105 E. Greene St.\, Piqua\, OH
END:VEVENT
END:VCALENDAR
