BEGIN:VCALENDAR
VERSION:2.0
PRODID:-//AudioTheme 2.3.8
BEGIN:VEVENT
UID:urn:uuid:12afe2bb-11c1-49e5-a63d-5e135c6de12c
URL:https://mitchmcvicker.com/concerts/2026-09-20/
DTSTART;TZID=GMT:20260920T230000
SUMMARY:Highland Park United Methodist Church
LOCATION:Highland Park United Methodist Church\, 2914 SE Michigan Avenue\, Topeka\, KS
END:VEVENT
END:VCALENDAR
