BEGIN:VCALENDAR
VERSION:2.0
PRODID:-//AudioTheme 2.3.8
BEGIN:VEVENT
UID:urn:uuid:29336464-6f06-4666-8c6d-4f562f2eb890
URL:https://mitchmcvicker.com/concerts/2026-09-19/
DTSTART;TZID=GMT:20260920T000000
SUMMARY:TBA
LOCATION:TBA\, Wichita\, KS
END:VEVENT
END:VCALENDAR
