BEGIN:VCALENDAR
VERSION:2.0
PRODID:-//AudioTheme 2.3.8
BEGIN:VEVENT
UID:urn:uuid:ca08cf15-642e-4c95-b67c-b5e75d4e9963
URL:https://mitchmcvicker.com/concerts/2026-09-15/
DTSTART;TZID=GMT:20260916T000000
SUMMARY:Arrow Springs Chapel
LOCATION:Arrow Springs Chapel\, 11240 S 241st East Ave\, Broken Arrow\, OK\, 74014
END:VEVENT
END:VCALENDAR
