BEGIN:VCALENDAR
VERSION:2.0
PRODID:-//AudioTheme 2.3.8
BEGIN:VEVENT
UID:urn:uuid:c9f4d42c-3b91-40f3-bc01-ae257d71285e
URL:https://mitchmcvicker.com/concerts/2026-09-09/
DTSTART;TZID=GMT:20260910T000000
SUMMARY:Brother's Keeper Church
LOCATION:Brother's Keeper Church\, 280 Homer Cemetery Rd\, Lufkin\, TX
END:VEVENT
END:VCALENDAR
