BEGIN:VCALENDAR
VERSION:2.0
PRODID:-//AudioTheme 2.3.8
BEGIN:VEVENT
UID:urn:uuid:0fe2a956-4266-485c-b8b6-08bf26ec4eb5
URL:https://mitchmcvicker.com/concerts/2026-08-30/
DTSTART;TZID=GMT:20260830T220000
SUMMARY:Trinity Presbyterian Church
LOCATION:Trinity Presbyterian Church\, 4365 State Road 776\, Venice\, FL
END:VEVENT
END:VCALENDAR
