BEGIN:VCALENDAR
VERSION:2.0
PRODID:-//AudioTheme 2.3.8
BEGIN:VEVENT
UID:urn:uuid:71f8f002-ea18-49f3-8f08-b13611a5ce10
URL:https://mitchmcvicker.com/concerts/2026-08-29/
DTSTART;TZID=GMT:20260829T230000
SUMMARY:Grace Lutheran Church of St Cloud
LOCATION:Grace Lutheran Church of St Cloud\, 1123 Louisiana Ave\, St Cloud\, FL\, 34769
END:VEVENT
END:VCALENDAR
