BEGIN:VCALENDAR
VERSION:2.0
PRODID:-//AudioTheme 2.3.8
BEGIN:VEVENT
UID:urn:uuid:ed0aebad-3632-46cc-89ad-fc6ac16b3a7e
URL:https://mitchmcvicker.com/concerts/2026-08-27/
DTSTART;TZID=GMT:20260827T230000
SUMMARY:House Concert
LOCATION:House Concert\, 7010 Lake Joanne Dr\, Pensacola\, FL\, 32506
END:VEVENT
END:VCALENDAR
