BEGIN:VCALENDAR
VERSION:2.0
PRODID:-//AudioTheme 2.3.8
BEGIN:VEVENT
UID:urn:uuid:5b85384c-ed02-4182-b9a5-2d392aed0ef9
URL:https://mitchmcvicker.com/concerts/2026-08-26/
DTSTART;TZID=GMT:20260827T000000
SUMMARY:Baily's Coffee and Co
LOCATION:Baily's Coffee and Co\, 207 !9th St E\, Jasper\, AL\, 35504
END:VEVENT
END:VCALENDAR
