BEGIN:VCALENDAR
VERSION:2.0
PRODID:-//AudioTheme 2.3.8
BEGIN:VEVENT
UID:urn:uuid:3da898dd-7033-4dc7-853e-0248fe12f698
URL:https://mitchmcvicker.com/concerts/2026-08-02/
DTSTART;TZID=GMT:20260803T000000
SUMMARY:Christ First Community Church
LOCATION:Christ First Community Church\, 801 Main Street\, Canon City\, CO
END:VEVENT
END:VCALENDAR
