BEGIN:VCALENDAR
VERSION:2.0
PRODID:-//AudioTheme 2.3.8
BEGIN:VEVENT
UID:urn:uuid:1bd62ec8-971a-4238-b2df-742d7495156c
URL:https://mitchmcvicker.com/concerts/2026-08-01/
DTSTART;TZID=GMT:20260802T013000
SUMMARY:House Concert
LOCATION:House Concert\, 7422 S Sourdough Dr\, Morrison\, CO\, 80465
END:VEVENT
END:VCALENDAR
