BEGIN:VCALENDAR
VERSION:2.0
PRODID:-//AudioTheme 2.3.8
BEGIN:VEVENT
UID:urn:uuid:7bd577e2-5fc1-4525-baf7-69c9acc4fb76
URL:https://mitchmcvicker.com/concerts/2026-07-31/
DTSTART;TZID=GMT:20260801T013000
SUMMARY:House Concert
LOCATION:House Concert\, 4102 Lupine St\, Colorado Springs\, CO\, 80918
END:VEVENT
END:VCALENDAR
