BEGIN:VCALENDAR
VERSION:2.0
PRODID:-//AudioTheme 2.3.8
BEGIN:VEVENT
UID:urn:uuid:2c484945-18ee-4cb3-aafe-6a85797d86de
URL:https://mitchmcvicker.com/concerts/2026-07-30/
DTSTART;TZID=GMT:20260731T000000
SUMMARY:Moonlight Harvest
LOCATION:Moonlight Harvest\, 4770 Chmelka Rd\, Garden City\, KS\, 67846
END:VEVENT
END:VCALENDAR
