BEGIN:VCALENDAR
VERSION:2.0
PRODID:-//AudioTheme 2.3.8
BEGIN:VEVENT
UID:urn:uuid:9278e586-5277-40a2-bf4d-088f8fef25f5
URL:https://mitchmcvicker.com/concerts/2026-07-29/
DTSTART;TZID=GMT:20260730T000000
SUMMARY:TBA
LOCATION:TBA\, Kearney\, NE
END:VEVENT
END:VCALENDAR
