BEGIN:VCALENDAR
VERSION:2.0
PRODID:-//AudioTheme 2.3.8
BEGIN:VEVENT
UID:urn:uuid:ae2ffcde-16cc-4977-a369-20e70a3333f2
URL:https://mitchmcvicker.com/concerts/2026-07-28/
DTSTART;TZID=GMT:20260729T000000
SUMMARY:TBA
LOCATION:TBA\, Alta\, IA
END:VEVENT
END:VCALENDAR
