BEGIN:VCALENDAR
VERSION:2.0
PRODID:-//AudioTheme 2.3.8
BEGIN:VEVENT
UID:urn:uuid:bd90f27e-bb41-4ea3-a77f-b019049fd2cb
URL:https://mitchmcvicker.com/concerts/2026-07-27/
DTSTART;TZID=GMT:20260728T000000
SUMMARY:Hope Community Church
LOCATION:Hope Community Church\, 1411 Roseport St\, Elwood\, KS
END:VEVENT
END:VCALENDAR
