BEGIN:VCALENDAR
VERSION:2.0
PRODID:-//AudioTheme 2.3.8
BEGIN:VEVENT
UID:urn:uuid:fe25e3d4-c7a5-4fd1-9e2c-47b3c756216f
URL:https://mitchmcvicker.com/concerts/2026-07-26/
DTSTART;TZID=GMT:20260726T200000
SUMMARY:Southwest Christian Music Fest
LOCATION:Southwest Christian Music Fest\, City Park\, 2nd st\, Platteville\, WI
END:VEVENT
END:VCALENDAR
