BEGIN:VCALENDAR
VERSION:2.0
PRODID:-//AudioTheme 2.3.8
BEGIN:VEVENT
UID:urn:uuid:3d83920f-fe83-41c5-b674-312e86f935a3
URL:https://mitchmcvicker.com/concerts/2026-07-24/
DTSTART;TZID=GMT:20260725T003000
SUMMARY:Ebenezer Acres
LOCATION:Ebenezer Acres\, 13327 Goodview Ave N\, White Bear Lake\, MN\, 55110
END:VEVENT
END:VCALENDAR
