BEGIN:VCALENDAR
VERSION:2.0
PRODID:-//AudioTheme 2.3.8
BEGIN:VEVENT
UID:urn:uuid:7b150251-5047-4ed9-bc4f-cab2d3a938ae
URL:https://mitchmcvicker.com/concerts/2026-07-22/
DTSTART;TZID=GMT:20260722T230000
SUMMARY:Community Fellowship Church
LOCATION:Community Fellowship Church\, 1051 N Jackson Pike\, Union City\, IN
END:VEVENT
END:VCALENDAR
