BEGIN:VCALENDAR
VERSION:2.0
PRODID:-//AudioTheme 2.3.8
BEGIN:VEVENT
UID:urn:uuid:51c00793-c865-4fd5-9cf3-58cfc41398c6
URL:https://mitchmcvicker.com/concerts/2026-06-28/
DTSTART;TZID=GMT:20260712T223000
SUMMARY:Christ Community / Unity Baptist Church
LOCATION:Christ Community / Unity Baptist Church\, 531 Neoka Dr\, Campbell\, OH\, 44405
END:VEVENT
END:VCALENDAR
