BEGIN:VCALENDAR
VERSION:2.0
PRODID:-//AudioTheme 2.3.8
BEGIN:VEVENT
UID:urn:uuid:9ab559b5-6c47-40ca-be2b-3db4f3a4a99f
URL:https://mitchmcvicker.com/concerts/2026-06-27/
DTSTART;TZID=GMT:20260613T223000
SUMMARY:Murphy Porch Concert
LOCATION:Murphy Porch Concert\, 2360 Military Rd\, Amelia Court House\, VA
END:VEVENT
END:VCALENDAR
