BEGIN:VCALENDAR
VERSION:2.0
PRODID:-//AudioTheme 2.3.8
BEGIN:VEVENT
UID:urn:uuid:e3e350b2-ed94-4602-a3df-c4b338c361ce
URL:https://mitchmcvicker.com/concerts/2026-06-25/
DTSTART;TZID=GMT:20260710T233000
SUMMARY:South Ridge Community Church
LOCATION:South Ridge Community Church\, 7 Pittstown Rd\, Clinton\, NJ\, 08809
END:VEVENT
END:VCALENDAR
