BEGIN:VCALENDAR
VERSION:2.0
PRODID:-//AudioTheme 2.3.8
BEGIN:VEVENT
UID:urn:uuid:52bd0afa-7323-4ba5-9f72-74fc9ed914aa
URL:https://mitchmcvicker.com/concerts/2026-05-28/
DTSTART;TZID=GMT:20260528T230000
SUMMARY:Camp Vesper Point
LOCATION:Camp Vesper Point\, Staff concert\, Soddy-Daisy\, TN
END:VEVENT
END:VCALENDAR
