BEGIN:VCALENDAR
VERSION:2.0
PRODID:-//AudioTheme 2.3.8
BEGIN:VEVENT
UID:urn:uuid:68b79c11-087a-4e33-bf11-6086a8dc84f7
URL:https://mitchmcvicker.com/concerts/2026-05-16/
DTSTART;TZID=GMT:20260531T000000
SUMMARY:Samantha's Lil Bit of Heaven
LOCATION:Samantha's Lil Bit of Heaven\, 287 Larkfield Rd\, East Northport\, NY\, 11731
END:VEVENT
END:VCALENDAR
