BEGIN:VCALENDAR
VERSION:2.0
PRODID:-//AudioTheme 2.3.8
BEGIN:VEVENT
UID:urn:uuid:e3bd0a5e-86bb-404b-a979-b53f6087d7bf
URL:https://mitchmcvicker.com/concerts/2026-05-14/
DTSTART;TZID=GMT:20260529T230000
SUMMARY:Trinity Episcopal Church
LOCATION:Trinity Episcopal Church\, 475 Oak Ridge Rd\, Arrington\, VA\, 22922
END:VEVENT
END:VCALENDAR
