BEGIN:VCALENDAR
VERSION:2.0
PRODID:-//AudioTheme 2.3.8
BEGIN:VEVENT
UID:urn:uuid:770c492e-e513-416c-b00c-cb1a66eef1eb
URL:https://mitchmcvicker.com/concerts/2026-04-19/
DTSTART;TZID=GMT:20260419T223000
SUMMARY:New Franklin Assembly of God
LOCATION:New Franklin Assembly of God\, 2355 New Franklin Rd\, Chambersburg\, PA\, 17202
END:VEVENT
END:VCALENDAR
