BEGIN:VCALENDAR
VERSION:2.0
PRODID:-//AudioTheme 2.3.8
BEGIN:VEVENT
UID:urn:uuid:3ffae2a2-585d-4aa5-8944-40444d3dc69f
URL:https://mitchmcvicker.com/concerts/2026-04-11/
DTSTART;TZID=GMT:20260411T230000
SUMMARY:Deer Run Church of Christ
LOCATION:Deer Run Church of Christ\, 2730 S Ironwood Dr\, South Bend\, IN
END:VEVENT
END:VCALENDAR
