BEGIN:VCALENDAR
VERSION:2.0
PRODID:-//AudioTheme 2.3.8
BEGIN:VEVENT
UID:urn:uuid:af8978e6-9a68-41a5-94c8-cdb247e62f13
URL:https://mitchmcvicker.com/concerts/2026-04-10/
DTSTART;TZID=GMT:20260410T230000
SUMMARY:Middletown Church of God
LOCATION:Middletown Church of God\, 1016 W Mill Rd\, Middletown\, IN
END:VEVENT
END:VCALENDAR
