BEGIN:VCALENDAR
VERSION:2.0
PRODID:-//AudioTheme 2.3.8
BEGIN:VEVENT
UID:urn:uuid:6d009182-fd4a-4cc0-a7f6-7aeb6d763774
URL:https://mitchmcvicker.com/concerts/2026-03-29/
DTSTART;TZID=GMT:20260329T230000
SUMMARY:Faith United Methodist Church
LOCATION:Faith United Methodist Church\, 6060 Teasley Lane\, Denton\, TX
END:VEVENT
END:VCALENDAR
