BEGIN:VCALENDAR
VERSION:2.0
PRODID:-//AudioTheme 2.3.8
BEGIN:VEVENT
UID:urn:uuid:e6c5d55a-05cf-40ef-9640-f5f79f02e2e2
URL:https://mitchmcvicker.com/concerts/2026-03-26/
DTSTART;TZID=GMT:20260327T010000
SUMMARY:Window Rock Cinema
LOCATION:Window Rock Cinema\, 45 Main St\, Window Rock\, AZ\, 86515
END:VEVENT
END:VCALENDAR
