BEGIN:VCALENDAR
VERSION:2.0
PRODID:-//AudioTheme 2.3.8
BEGIN:VEVENT
UID:urn:uuid:ccda7858-e507-41b1-9f6b-29e1b189c9ff
URL:https://mitchmcvicker.com/concerts/2026-03-25/
DTSTART;TZID=GMT:20260326T020000
SUMMARY:Dream City Church
LOCATION:Dream City Church\, 325 Aravaipa Rd\, San Carlos\, AZ\, 85550
END:VEVENT
END:VCALENDAR
