BEGIN:VCALENDAR
VERSION:2.0
PRODID:-//AudioTheme 2.3.8
BEGIN:VEVENT
UID:urn:uuid:ac211a34-dcef-447a-a00a-46ca5fb9345e
URL:https://mitchmcvicker.com/concerts/2026-03-23/
DTSTART;TZID=GMT:20260324T020000
SUMMARY:Indigenous Bible College
LOCATION:Indigenous Bible College\, 2227 E Cedar Ave\, Flagstaff\, AZ
END:VEVENT
END:VCALENDAR
