BEGIN:VCALENDAR
VERSION:2.0
PRODID:-//AudioTheme 2.3.8
BEGIN:VEVENT
UID:urn:uuid:e321b48d-8314-4fc8-b058-9ca62a7535cf
URL:https://mitchmcvicker.com/concerts/2026-03-22/
DTSTART;TZID=GMT:20260322T170000
SUMMARY:Greenfield Community Church
LOCATION:Greenfield Community Church\, Mesa\, AZ
END:VEVENT
END:VCALENDAR
