BEGIN:VCALENDAR
VERSION:2.0
PRODID:-//AudioTheme 2.3.8
BEGIN:VEVENT
UID:urn:uuid:47aacdd9-33aa-4ddb-bbc9-7c2b9b2ce0c8
URL:https://mitchmcvicker.com/concerts/2026-02-24/
DTSTART;TZID=GMT:20260225T000000
SUMMARY:Calvary Chapel Clarksville
LOCATION:Calvary Chapel Clarksville\, 221 Dunbar Cave Rd\, Clarksville\, TN
END:VEVENT
END:VCALENDAR
