BEGIN:VCALENDAR
VERSION:2.0
PRODID:-//AudioTheme 2.3.8
BEGIN:VEVENT
UID:urn:uuid:e531ab63-1c7b-44a7-9abd-a0923f008177
URL:https://mitchmcvicker.com/concerts/2023-07-18/
DTSTART;TZID=GMT:20230806T000000
SUMMARY:Central Baptist Church
LOCATION:Central Baptist Church\, 201 US Highway 70 SWE\, Hildebran\, NC
END:VEVENT
END:VCALENDAR
