BEGIN:VCALENDAR
VERSION:2.0
PRODID:-//AudioTheme 2.3.8
BEGIN:VEVENT
UID:urn:uuid:11148d5b-a885-4357-83d1-e190ae357434
URL:https://mitchmcvicker.com/concerts/2019-04-07/
DTSTART;TZID=GMT:20190408T000000
SUMMARY:Brooklife Church
LOCATION:Brooklife Church\, 857 S. Rochester St. #300\, Mukwonago\, WI
END:VEVENT
END:VCALENDAR
