BEGIN:VCALENDAR
VERSION:2.0
PRODID:-//AudioTheme 2.3.8
BEGIN:VEVENT
UID:urn:uuid:fad19e5d-9ec8-4e58-a7fd-bbf6c21fa81b
URL:https://mitchmcvicker.com/concerts/2018-09-02/
DTSTART;TZID=GMT:20180902T193000
SUMMARY:Muskies on Main Storyfest
LOCATION:Muskies on Main Storyfest\, 4 Stormont Street\, New Concord\, OH
END:VEVENT
END:VCALENDAR
